BEGIN:VCALENDAR
VERSION:2.0
PRODID:-//Contratero//ES
CALSCALE:GREGORIAN
METHOD:PUBLISH
BEGIN:VEVENT
UID:45/2022 SV PA SARA@contratero.es
DTSTAMP:20260424T014031Z
DTSTART:20220831T235959
DTEND:20220901T005959
SUMMARY:Cierre: Contratación del desarrollo de un sistema de infor
DESCRIPTION:Contratación del desarrollo de un sistema de información web (frontend y backend) adaptado a la legislación vigente\\n\\nOrganismo: Presidencia de la Diputación Provincial de Cáceres\\n\\nVer en Contratero: https://contratero.es/contracts/45/2022 SV PA SARA
URL:https://contratero.es/contracts/45/2022 SV PA SARA
STATUS:CONFIRMED
BEGIN:VALARM
TRIGGER:-P1D
ACTION:DISPLAY
DESCRIPTION:Recordatorio: Contratación del desarrollo de
END:VALARM
END:VEVENT
END:VCALENDAR